BEGIN:VCALENDAR
VERSION:2.0
PRODID:-//BSGA - ECPv6.15.20//NONSGML v1.0//EN
CALSCALE:GREGORIAN
METHOD:PUBLISH
X-WR-CALNAME:BSGA
X-ORIGINAL-URL:https://uksigns.org
X-WR-CALDESC:Events for BSGA
REFRESH-INTERVAL;VALUE=DURATION:PT1H
X-Robots-Tag:noindex
X-PUBLISHED-TTL:PT1H
BEGIN:VTIMEZONE
TZID:Europe/London
BEGIN:DAYLIGHT
TZOFFSETFROM:+0000
TZOFFSETTO:+0100
TZNAME:BST
DTSTART:20250330T010000
END:DAYLIGHT
BEGIN:STANDARD
TZOFFSETFROM:+0100
TZOFFSETTO:+0000
TZNAME:GMT
DTSTART:20251026T010000
END:STANDARD
BEGIN:DAYLIGHT
TZOFFSETFROM:+0000
TZOFFSETTO:+0100
TZNAME:BST
DTSTART:20260329T010000
END:DAYLIGHT
BEGIN:STANDARD
TZOFFSETFROM:+0100
TZOFFSETTO:+0000
TZNAME:GMT
DTSTART:20261025T010000
END:STANDARD
BEGIN:DAYLIGHT
TZOFFSETFROM:+0000
TZOFFSETTO:+0100
TZNAME:BST
DTSTART:20270328T010000
END:DAYLIGHT
BEGIN:STANDARD
TZOFFSETFROM:+0100
TZOFFSETTO:+0000
TZNAME:GMT
DTSTART:20271031T010000
END:STANDARD
END:VTIMEZONE
BEGIN:VEVENT
DTSTART;VALUE=DATE:20260420
DTEND;VALUE=DATE:20260421
DTSTAMP:20260420T022602
CREATED:20260324T145401Z
LAST-MODIFIED:20260324T145401Z
UID:54135-1776643200-1776729599@uksigns.org
SUMMARY:Beginner Vinyl Application Course
DESCRIPTION:Our beginner course is ideal for anyone eager to enter the industry or for businesses without a structured training program for new employees. \n  \nCourse Overview (1 Day Training Course) \nThroughout the course\, you will gain comprehensive knowledge on the following topics:  \n\nTypes of Materials: Understanding various materials used in graphic installation. \n\n\nCommon Types of Graphic Installation: Familiarization with different installation methods. \n\n\nPre-install Checks: Essential checks before starting the installation. \n\n\nWeather Conditions and Their Impact: How weather affects graphic applications. \n\n\nCleaning: Proper cleaning techniques for surfaces. \n\n\nSqueegees/Applicators: Types and Uses: Choosing and using the right tools. \n\n\nTools Required: Essential tools for graphic installation. \n\n\nKnife Control: Mastering precision and safety with cutting tools. \n\n\nSetting Up for Application: Preparing your workspace for efficient application. \n\n\nApplication: Hands-on application techniques. \nIntroduction to Vehicle Wrapping: Basics of wrapping vehicles with graphics.
URL:https://uksigns.org/event/beginner-vinyl-application-course/
LOCATION:CVI Training Academy\, Hull
CATEGORIES:Training
END:VEVENT
BEGIN:VEVENT
DTSTART;TZID=Europe/London:20260420T090000
DTEND;TZID=Europe/London:20260424T160000
DTSTAMP:20260420T022602
CREATED:20251208T104446Z
LAST-MODIFIED:20251208T104446Z
UID:53586-1776675600-1777046400@uksigns.org
SUMMARY:MACH 2026
DESCRIPTION:MACH 2026 brings to you over 500 exhibitors – all eager to showcase their latest cutting edge\, innovative products and services across many sectors. Key aspects of manufacturing technology on display will include; machine tools\, cutting tools\, metrology equipment\, additive manufacturing (3D printing)\, surface engineering\, robotics and automation\, sheet metal\, metal forming and fabrication technology\, and specialist software which is both enabling and driving the digitisation of manufacturing.
URL:https://uksigns.org/event/mach-2026/
LOCATION:NEC Birmingham\, Birmingham\, B40 1NT\, United Kingdom
END:VEVENT
END:VCALENDAR