BEGIN:VCALENDAR
VERSION:2.0
PRODID:-//BSGA - ECPv6.15.20//NONSGML v1.0//EN
CALSCALE:GREGORIAN
METHOD:PUBLISH
X-ORIGINAL-URL:https://uksigns.org
X-WR-CALDESC:Events for BSGA
REFRESH-INTERVAL;VALUE=DURATION:PT1H
X-Robots-Tag:noindex
X-PUBLISHED-TTL:PT1H
BEGIN:VTIMEZONE
TZID:Europe/London
BEGIN:DAYLIGHT
TZOFFSETFROM:+0000
TZOFFSETTO:+0100
TZNAME:BST
DTSTART:20240331T010000
END:DAYLIGHT
BEGIN:STANDARD
TZOFFSETFROM:+0100
TZOFFSETTO:+0000
TZNAME:GMT
DTSTART:20241027T010000
END:STANDARD
BEGIN:DAYLIGHT
TZOFFSETFROM:+0000
TZOFFSETTO:+0100
TZNAME:BST
DTSTART:20250330T010000
END:DAYLIGHT
BEGIN:STANDARD
TZOFFSETFROM:+0100
TZOFFSETTO:+0000
TZNAME:GMT
DTSTART:20251026T010000
END:STANDARD
BEGIN:DAYLIGHT
TZOFFSETFROM:+0000
TZOFFSETTO:+0100
TZNAME:BST
DTSTART:20260329T010000
END:DAYLIGHT
BEGIN:STANDARD
TZOFFSETFROM:+0100
TZOFFSETTO:+0000
TZNAME:GMT
DTSTART:20261025T010000
END:STANDARD
END:VTIMEZONE
BEGIN:VEVENT
DTSTART;TZID=Europe/London:20250902T090000
DTEND;TZID=Europe/London:20250903T170000
DTSTAMP:20260421T154321
CREATED:20250703T113016Z
LAST-MODIFIED:20250703T113016Z
UID:52315-1756803600-1756918800@uksigns.org
SUMMARY:WILLIAM SMITH - BASIC ARCHITEXTURAL APPLICATION
DESCRIPTION:This two day course based in Barnard Castle is perfect for beginners and also installers who would like to improve on their skills. This course is designed not only to broaden your understanding of the interior design opportunities with Architectural Film but\, to also give you comprehensive hands on experience.
URL:https://uksigns.org/event/william-smith-basic-architextural-application-2/
LOCATION:William Smith\, Queen Street\, Barnard Castle\, DL12 8JQ
CATEGORIES:Member Events,Training
END:VEVENT
BEGIN:VEVENT
DTSTART;TZID=Europe/London:20250904T090000
DTEND;TZID=Europe/London:20250905T160000
DTSTAMP:20260421T154321
CREATED:20250703T115705Z
LAST-MODIFIED:20250703T120642Z
UID:52326-1756976400-1757088000@uksigns.org
SUMMARY:WILLIAM SMITH - KITCHEN APPLICATION COURSE
DESCRIPTION:This two-day course based in Barnard Castle is perfect for beginners and also installers who are looking to go into the kitchen wrapping market. This course is designed not only to broaden your understanding of the utilisation of Architectural Film in the kitchen environment\, but to additional give comprehensive hands-on experience of using the product to refurbish different substrates in this setting. \nThe course is practical and provides great opportunities to work with the architectural films on a variety of kitchen surfaces\, practicing the different techniques needed when applying Architectural Film\, as well other key considerations you need to take into account. \nTHE THEORY PART OF THIS COURSE WILL TAKE PLACE BEFORE THE EVENT AND MUST BE COMPLETED PRIOR TO THE ON-SITE COURSE. PLEASE MAKE SURE YOU SELECT THE ADD-ON WHEN CHECKING OUT.
URL:https://uksigns.org/event/william-smith-kitchen-application-course-3/
LOCATION:William Smith\, Queen Street\, Barnard Castle\, DL12 8JQ
CATEGORIES:Member Events,Training
END:VEVENT
BEGIN:VEVENT
DTSTART;TZID=Europe/London:20250910T100000
DTEND;TZID=Europe/London:20250910T150000
DTSTAMP:20260421T154321
CREATED:20250703T104511Z
LAST-MODIFIED:20250703T104528Z
UID:52290-1757498400-1757516400@uksigns.org
SUMMARY:BPIF - INTRO TO LEAN MANUFACTURING
DESCRIPTION:Join us for the day to explore the fundamentals of Lean Manufacturing\, including introduction to lean tools and processes. \nThis is a great opportunity for anyone to learn about the benefits of lean manufacturing\, the first step to continual improvement.
URL:https://uksigns.org/event/bpif-into-to-lean-manufacturing/
LOCATION:Remote – Online
CATEGORIES:Training
ORGANIZER;CN="BPIF":MAILTO:training@bpif.org.uk
END:VEVENT
BEGIN:VEVENT
DTSTART;TZID=Europe/London:20250911T090000
DTEND;TZID=Europe/London:20250912T170000
DTSTAMP:20260421T154321
CREATED:20250703T121342Z
LAST-MODIFIED:20250703T121342Z
UID:52334-1757581200-1757696400@uksigns.org
SUMMARY:WILLIAM SMITH - INTERIOR FILM IN CONSTRUCTION
DESCRIPTION:This two-day course\, held at our dedicated training facility in Barnard Castle\, is ideal for construction professionals\, installers\, and interior fit-out teams who want to explore the practical benefits and applications of architectural film within construction projects. \nDesigned to build both confidence and capability\, this course introduces the use of high-performance interior films like 3M DI-NOC\, Cover Styl\, and LX Hausys in a construction setting. \nYou’ll gain valuable insight into how these films can be used to refurbish surfaces\, reduce waste\, and deliver stylish\, durable finishes across commercial interiors\, hospitality\, retail\, and more. \nExpect hands-on training with real world scenarios and varied substrates\, from doors and walls to joinery and fabricated surfaces\, mirroring the types of installations common in construction environments. \nLed by our expert trainer Phil Moran\, the course includes one-to-one guidance and expert demonstrations\, ensuring you walk away with the practical knowledge and techniques to integrate architectural films into your next construction project with confidence. \nOur full course is usually £495 + VAT per person — but to celebrate the launch\, we’re offering a one-time special rate of just £245 + VAT per person for our first course only. \nUse discount code INTFILMMAY at checkout to unlock this exclusive offer.
URL:https://uksigns.org/event/william-smith-interior-film-in-construction-2/
LOCATION:William Smith\, Queen Street\, Barnard Castle\, DL12 8JQ
CATEGORIES:Member Events,Training
END:VEVENT
BEGIN:VEVENT
DTSTART;TZID=Europe/London:20250916T090000
DTEND;TZID=Europe/London:20250916T160000
DTSTAMP:20260421T154321
CREATED:20250703T102025Z
LAST-MODIFIED:20250703T102025Z
UID:52274-1758013200-1758038400@uksigns.org
SUMMARY:MAKE IT HAPPEN - THE SIGNAGE BOOTCAMP
DESCRIPTION:
URL:https://uksigns.org/event/make-it-happen-the-signage-bootcamp-2/
LOCATION:Signfab (UK)\, Byford Road\, Leicester\, LE4 0DG\, United Kingdom
CATEGORIES:Member Events,Training
ORGANIZER;CN="Make It Happen":MAILTO:team@makeih.co.uk
END:VEVENT
BEGIN:VEVENT
DTSTART;TZID=Europe/London:20250917T090000
DTEND;TZID=Europe/London:20250917T160000
DTSTAMP:20260421T154321
CREATED:20250703T103414Z
LAST-MODIFIED:20250703T103414Z
UID:52282-1758099600-1758124800@uksigns.org
SUMMARY:MAKE IT HAPPEN - ON THE FRONTLINE
DESCRIPTION:
URL:https://uksigns.org/event/make-it-happen-on-the-frontline/
LOCATION:Signfab (UK)\, Byford Road\, Leicester\, LE4 0DG\, United Kingdom
CATEGORIES:Member Events,Training
ORGANIZER;CN="Make It Happen":MAILTO:team@makeih.co.uk
END:VEVENT
BEGIN:VEVENT
DTSTART;TZID=Europe/London:20250918T090000
DTEND;TZID=Europe/London:20250918T160000
DTSTAMP:20260421T154321
CREATED:20250703T101311Z
LAST-MODIFIED:20250703T101311Z
UID:52264-1758186000-1758211200@uksigns.org
SUMMARY:MAKE IT HAPPEN - THE FIRST DRILL
DESCRIPTION:
URL:https://uksigns.org/event/make-it-happen-the-first-drill-2/
LOCATION:Signfab (UK)\, Byford Road\, Leicester\, LE4 0DG\, United Kingdom
CATEGORIES:Member Events,Training
END:VEVENT
END:VCALENDAR