BEGIN:VCALENDAR
VERSION:2.0
PRODID:-//BSGA - ECPv6.15.20//NONSGML v1.0//EN
CALSCALE:GREGORIAN
METHOD:PUBLISH
X-WR-CALNAME:BSGA
X-ORIGINAL-URL:https://uksigns.org
X-WR-CALDESC:Events for BSGA
REFRESH-INTERVAL;VALUE=DURATION:PT1H
X-Robots-Tag:noindex
X-PUBLISHED-TTL:PT1H
BEGIN:VTIMEZONE
TZID:Europe/London
BEGIN:DAYLIGHT
TZOFFSETFROM:+0000
TZOFFSETTO:+0100
TZNAME:BST
DTSTART:20240331T010000
END:DAYLIGHT
BEGIN:STANDARD
TZOFFSETFROM:+0100
TZOFFSETTO:+0000
TZNAME:GMT
DTSTART:20241027T010000
END:STANDARD
BEGIN:DAYLIGHT
TZOFFSETFROM:+0000
TZOFFSETTO:+0100
TZNAME:BST
DTSTART:20250330T010000
END:DAYLIGHT
BEGIN:STANDARD
TZOFFSETFROM:+0100
TZOFFSETTO:+0000
TZNAME:GMT
DTSTART:20251026T010000
END:STANDARD
BEGIN:DAYLIGHT
TZOFFSETFROM:+0000
TZOFFSETTO:+0100
TZNAME:BST
DTSTART:20260329T010000
END:DAYLIGHT
BEGIN:STANDARD
TZOFFSETFROM:+0100
TZOFFSETTO:+0000
TZNAME:GMT
DTSTART:20261025T010000
END:STANDARD
END:VTIMEZONE
BEGIN:VEVENT
DTSTART;TZID=Europe/London:20250603T100000
DTEND;TZID=Europe/London:20250604T160000
DTSTAMP:20260423T190116
CREATED:20250428T102014Z
LAST-MODIFIED:20250428T102014Z
UID:51885-1748944800-1749052800@uksigns.org
SUMMARY:GROWTH THROUGH SUSTAINABILITY
DESCRIPTION:  \n\n\n\nAt the Open Day\, you’ll have the opportunity to:\n\n\n\n  \n\n\n\n\n\nExperience live demonstrations of the latest printers\, including the new HP Latex R530\, showcasing its eco-friendly latex printing technology.\n\n\n\n\n\n  \n\n\n\n\n\nUnderstand the power of automation software to improve efficiency and reduce waste.\n\n\n\n\n\n  \n\n\n\n\n\nSee the latest finishing equipment solutions\, including the Summa F1612\, designed for optimal performance and minimal environmental impact.\n\n\n\n\n\n  \n\n\n\n\n\nAttend our insightful Seminar on Growth through Sustainability
URL:https://uksigns.org/event/growth-through-sustainability/
LOCATION:Unit 0\, Europa House\, Sheffield Airport Business Centre Park\, Sheffield\, S9 1XU\, Sheffield Airport Business Park\, Unit 0\, Europa House\, Sheffield\, S9 1XU
CATEGORIES:Training
END:VEVENT
END:VCALENDAR