BEGIN:VCALENDAR
VERSION:2.0
PRODID:-//BSGA - ECPv6.15.20//NONSGML v1.0//EN
CALSCALE:GREGORIAN
METHOD:PUBLISH
X-WR-CALNAME:BSGA
X-ORIGINAL-URL:https://uksigns.org
X-WR-CALDESC:Events for BSGA
REFRESH-INTERVAL;VALUE=DURATION:PT1H
X-Robots-Tag:noindex
X-PUBLISHED-TTL:PT1H
BEGIN:VTIMEZONE
TZID:Europe/London
BEGIN:DAYLIGHT
TZOFFSETFROM:+0000
TZOFFSETTO:+0100
TZNAME:BST
DTSTART:20240331T010000
END:DAYLIGHT
BEGIN:STANDARD
TZOFFSETFROM:+0100
TZOFFSETTO:+0000
TZNAME:GMT
DTSTART:20241027T010000
END:STANDARD
BEGIN:DAYLIGHT
TZOFFSETFROM:+0000
TZOFFSETTO:+0100
TZNAME:BST
DTSTART:20250330T010000
END:DAYLIGHT
BEGIN:STANDARD
TZOFFSETFROM:+0100
TZOFFSETTO:+0000
TZNAME:GMT
DTSTART:20251026T010000
END:STANDARD
BEGIN:DAYLIGHT
TZOFFSETFROM:+0000
TZOFFSETTO:+0100
TZNAME:BST
DTSTART:20260329T010000
END:DAYLIGHT
BEGIN:STANDARD
TZOFFSETFROM:+0100
TZOFFSETTO:+0000
TZNAME:GMT
DTSTART:20261025T010000
END:STANDARD
END:VTIMEZONE
BEGIN:VEVENT
DTSTART;VALUE=DATE:20250626
DTEND;VALUE=DATE:20250627
DTSTAMP:20260423T190118
CREATED:20250127T131959Z
LAST-MODIFIED:20250127T131959Z
UID:51342-1750896000-1750982399@uksigns.org
SUMMARY:On The Frontline
DESCRIPTION:On the Frontline is suitable for business owners\, estimators and project managers looking to enhance and improve relationships with their clients. An excellent forum for anyone within the business who is involved with SELLING! \nThis workshop doesn’t focus on sales\, but on the differentiators that will help enhance relationship building\, refine strategies and improve processes to increase SELLING to positively impact your bottom line. \nOn the Frontline is designed to support those that are new into the industry as well as established professionals and companies.
URL:https://uksigns.org/event/on-the-frontline-4/
LOCATION:Signfab (UK)\, Byford Road\, Leicester\, LE4 0DG\, United Kingdom
CATEGORIES:Training
ORGANIZER;CN="Make It Happen":MAILTO:team@makeih.co.uk
END:VEVENT
END:VCALENDAR