BEGIN:VCALENDAR
VERSION:2.0
PRODID:-//BSGA - ECPv6.15.20//NONSGML v1.0//EN
CALSCALE:GREGORIAN
METHOD:PUBLISH
X-WR-CALNAME:BSGA
X-ORIGINAL-URL:https://uksigns.org
X-WR-CALDESC:Events for BSGA
REFRESH-INTERVAL;VALUE=DURATION:PT1H
X-Robots-Tag:noindex
X-PUBLISHED-TTL:PT1H
BEGIN:VTIMEZONE
TZID:Europe/London
BEGIN:DAYLIGHT
TZOFFSETFROM:+0000
TZOFFSETTO:+0100
TZNAME:BST
DTSTART:20240331T010000
END:DAYLIGHT
BEGIN:STANDARD
TZOFFSETFROM:+0100
TZOFFSETTO:+0000
TZNAME:GMT
DTSTART:20241027T010000
END:STANDARD
BEGIN:DAYLIGHT
TZOFFSETFROM:+0000
TZOFFSETTO:+0100
TZNAME:BST
DTSTART:20250330T010000
END:DAYLIGHT
BEGIN:STANDARD
TZOFFSETFROM:+0100
TZOFFSETTO:+0000
TZNAME:GMT
DTSTART:20251026T010000
END:STANDARD
BEGIN:DAYLIGHT
TZOFFSETFROM:+0000
TZOFFSETTO:+0100
TZNAME:BST
DTSTART:20260329T010000
END:DAYLIGHT
BEGIN:STANDARD
TZOFFSETFROM:+0100
TZOFFSETTO:+0000
TZNAME:GMT
DTSTART:20261025T010000
END:STANDARD
END:VTIMEZONE
BEGIN:VEVENT
DTSTART;TZID=Europe/London:20251111T090000
DTEND;TZID=Europe/London:20251112T170000
DTSTAMP:20260421T140714
CREATED:20250703T113315Z
LAST-MODIFIED:20250703T113432Z
UID:52317-1762851600-1762966800@uksigns.org
SUMMARY:WILLIAM SMITH - BASIC ARCHITEXTURAL APPLICATION
DESCRIPTION:This two day course based in Barnard Castle is perfect for beginners and also installers who would like to improve on their skills. This course is designed not only to broaden your understanding of the interior design opportunities with Architectural Film but\, to also give you comprehensive hands on experience.
URL:https://uksigns.org/event/william-smith-basic-architextural-application-3/
LOCATION:William Smith\, Queen Street\, Barnard Castle\, DL12 8JQ
CATEGORIES:Member Events,Training
END:VEVENT
BEGIN:VEVENT
DTSTART;TZID=Europe/London:20251112T100000
DTEND;TZID=Europe/London:20251112T150000
DTSTAMP:20260421T140714
CREATED:20250703T105637Z
LAST-MODIFIED:20250703T105637Z
UID:52297-1762941600-1762959600@uksigns.org
SUMMARY:BPIF - NEGOTIATION AND PERSUASION
DESCRIPTION:Negotiation happens everyday\, and being able to understand and apply good negotiation and persuasion skills is massively important in all sorts of situations. \nThe course will look at developing negotiation skills that play an important part in the workplace and help increase success in a business environment. Focuses will be around understanding the components of negotiation and persuasion\, the psychology behind negotiation and tools and techniques that can be applied.
URL:https://uksigns.org/event/bpif-negotiation-and-persuasion/
LOCATION:Remote – Online
CATEGORIES:Training
ORGANIZER;CN="BPIF":MAILTO:training@bpif.org.uk
END:VEVENT
BEGIN:VEVENT
DTSTART;TZID=Europe/London:20251112T100000
DTEND;TZID=Europe/London:20251112T150000
DTSTAMP:20260421T140714
CREATED:20250703T110219Z
LAST-MODIFIED:20250703T110219Z
UID:52303-1762941600-1762959600@uksigns.org
SUMMARY:BPIF - INTRO TO TEAM LEADING
DESCRIPTION:The focus for the day will be around the challenges of remote working\, motivating and encouraging staff\, and how to develop personal and business performance.
URL:https://uksigns.org/event/bpif-intro-to-team-leading/
LOCATION:Remote – Online
CATEGORIES:Training
ORGANIZER;CN="BPIF":MAILTO:training@bpif.org.uk
END:VEVENT
END:VCALENDAR