BEGIN:VCALENDAR
VERSION:2.0
PRODID:-//BSGA - ECPv6.15.20//NONSGML v1.0//EN
CALSCALE:GREGORIAN
METHOD:PUBLISH
X-WR-CALNAME:BSGA
X-ORIGINAL-URL:https://uksigns.org
X-WR-CALDESC:Events for BSGA
REFRESH-INTERVAL;VALUE=DURATION:PT1H
X-Robots-Tag:noindex
X-PUBLISHED-TTL:PT1H
BEGIN:VTIMEZONE
TZID:Europe/London
BEGIN:DAYLIGHT
TZOFFSETFROM:+0000
TZOFFSETTO:+0100
TZNAME:BST
DTSTART:20250330T010000
END:DAYLIGHT
BEGIN:STANDARD
TZOFFSETFROM:+0100
TZOFFSETTO:+0000
TZNAME:GMT
DTSTART:20251026T010000
END:STANDARD
BEGIN:DAYLIGHT
TZOFFSETFROM:+0000
TZOFFSETTO:+0100
TZNAME:BST
DTSTART:20260329T010000
END:DAYLIGHT
BEGIN:STANDARD
TZOFFSETFROM:+0100
TZOFFSETTO:+0000
TZNAME:GMT
DTSTART:20261025T010000
END:STANDARD
BEGIN:DAYLIGHT
TZOFFSETFROM:+0000
TZOFFSETTO:+0100
TZNAME:BST
DTSTART:20270328T010000
END:DAYLIGHT
BEGIN:STANDARD
TZOFFSETFROM:+0100
TZOFFSETTO:+0000
TZNAME:GMT
DTSTART:20271031T010000
END:STANDARD
END:VTIMEZONE
BEGIN:VEVENT
DTSTART;TZID=Europe/London:20260813T100000
DTEND;TZID=Europe/London:20260813T150000
DTSTAMP:20260419T145630
CREATED:20260325T105115Z
LAST-MODIFIED:20260325T105115Z
UID:54208-1786615200-1786633200@uksigns.org
SUMMARY:Introduction to Lean Tools and Processes
DESCRIPTION:Join us for the day to explore the fundamentals of Lean Manufacturing\, including introduction to lean tools and processes. \nThis is a great opportunity for anyone to learn about the benefits of lean manufacturing\, the first step to continual improvement. \nWhat will you learn?  \nThe day will begin by setting the scene for the context of the workshop around lean manufacturing and its importance to help stay competitive in today’s print marketplace. \nFollowed by an introduction to help you get your employees on board\, identify wastes\, organise work areas\, workflow system and procedure development. \nThe workshop will be interactive with breakout sessions and videos throughout the day. \nOn completion of the course learners will have an understanding of lean manufacturing processes and the principles of each.
URL:https://uksigns.org/event/introduction-to-lean-tools-and-processes-2/
LOCATION:Remote – Online
CATEGORIES:Training
ORGANIZER;CN="BPIF":MAILTO:training@bpif.org.uk
END:VEVENT
END:VCALENDAR