BEGIN:VCALENDAR
VERSION:2.0
PRODID:-//BSGA - ECPv6.15.20//NONSGML v1.0//EN
CALSCALE:GREGORIAN
METHOD:PUBLISH
X-WR-CALNAME:BSGA
X-ORIGINAL-URL:https://uksigns.org
X-WR-CALDESC:Events for BSGA
REFRESH-INTERVAL;VALUE=DURATION:PT1H
X-Robots-Tag:noindex
X-PUBLISHED-TTL:PT1H
BEGIN:VTIMEZONE
TZID:Europe/London
BEGIN:DAYLIGHT
TZOFFSETFROM:+0000
TZOFFSETTO:+0100
TZNAME:BST
DTSTART:20250330T010000
END:DAYLIGHT
BEGIN:STANDARD
TZOFFSETFROM:+0100
TZOFFSETTO:+0000
TZNAME:GMT
DTSTART:20251026T010000
END:STANDARD
BEGIN:DAYLIGHT
TZOFFSETFROM:+0000
TZOFFSETTO:+0100
TZNAME:BST
DTSTART:20260329T010000
END:DAYLIGHT
BEGIN:STANDARD
TZOFFSETFROM:+0100
TZOFFSETTO:+0000
TZNAME:GMT
DTSTART:20261025T010000
END:STANDARD
BEGIN:DAYLIGHT
TZOFFSETFROM:+0000
TZOFFSETTO:+0100
TZNAME:BST
DTSTART:20270328T010000
END:DAYLIGHT
BEGIN:STANDARD
TZOFFSETFROM:+0100
TZOFFSETTO:+0000
TZNAME:GMT
DTSTART:20271031T010000
END:STANDARD
END:VTIMEZONE
BEGIN:VEVENT
DTSTART;TZID=Europe/London:20261021T100000
DTEND;TZID=Europe/London:20261021T150000
DTSTAMP:20260419T191554
CREATED:20260325T110055Z
LAST-MODIFIED:20260325T110055Z
UID:54215-1792576800-1792594800@uksigns.org
SUMMARY:Training for Trainers
DESCRIPTION:Join us for the day to explore the fundamentals of internal training. \nThis is a great course for anyone that is responsible for training others or looking to brush up on their wider training skills. \nWhat will you learn? \nThe day will begin by setting the scene for the context of the workshop and exploring what training looks like in your workplace. \nYou will then learn more about the some of the fundamentals to consider\, including learning styles; emotional intelligence; learner needs and motivation; adult learning concepts; equality & diversity in training; managing change; conflict management. \nThe workshop will be interactive with breakout sessions and videos throughout the day. \nOn completion of the course learners will be able to create and develop their own internal training plans.
URL:https://uksigns.org/event/training-for-trainers-2/
LOCATION:Remote – Online
CATEGORIES:Training
ORGANIZER;CN="BPIF":MAILTO:training@bpif.org.uk
END:VEVENT
END:VCALENDAR