BEGIN:VCALENDAR
VERSION:2.0
PRODID:-//BSGA - ECPv6.15.20//NONSGML v1.0//EN
CALSCALE:GREGORIAN
METHOD:PUBLISH
X-ORIGINAL-URL:https://uksigns.org
X-WR-CALDESC:Events for BSGA
REFRESH-INTERVAL;VALUE=DURATION:PT1H
X-Robots-Tag:noindex
X-PUBLISHED-TTL:PT1H
BEGIN:VTIMEZONE
TZID:Europe/London
BEGIN:DAYLIGHT
TZOFFSETFROM:+0000
TZOFFSETTO:+0100
TZNAME:BST
DTSTART:20250330T010000
END:DAYLIGHT
BEGIN:STANDARD
TZOFFSETFROM:+0100
TZOFFSETTO:+0000
TZNAME:GMT
DTSTART:20251026T010000
END:STANDARD
BEGIN:DAYLIGHT
TZOFFSETFROM:+0000
TZOFFSETTO:+0100
TZNAME:BST
DTSTART:20260329T010000
END:DAYLIGHT
BEGIN:STANDARD
TZOFFSETFROM:+0100
TZOFFSETTO:+0000
TZNAME:GMT
DTSTART:20261025T010000
END:STANDARD
BEGIN:DAYLIGHT
TZOFFSETFROM:+0000
TZOFFSETTO:+0100
TZNAME:BST
DTSTART:20270328T010000
END:DAYLIGHT
BEGIN:STANDARD
TZOFFSETFROM:+0100
TZOFFSETTO:+0000
TZNAME:GMT
DTSTART:20271031T010000
END:STANDARD
BEGIN:DAYLIGHT
TZOFFSETFROM:+0000
TZOFFSETTO:+0100
TZNAME:BST
DTSTART:20280326T010000
END:DAYLIGHT
BEGIN:STANDARD
TZOFFSETFROM:+0100
TZOFFSETTO:+0000
TZNAME:GMT
DTSTART:20281029T010000
END:STANDARD
END:VTIMEZONE
BEGIN:VEVENT
DTSTART;TZID=Europe/London:20261210T090000
DTEND;TZID=Europe/London:20261210T160000
DTSTAMP:20260422T145304
CREATED:20260324T163733Z
LAST-MODIFIED:20260324T163733Z
UID:54169-1796893200-1796918400@uksigns.org
SUMMARY:The First Drill - Signage For Beginners
DESCRIPTION:Who is the workshop training for?\n\n\n\nDive into the world of signs and print with The First Drill\, a one day immersive workshop crafted for newcomers to the industry. Whether you’re in sales\, estimating\, project management\, design or production\, this workshop gives you the essential foundations required to succeed in signs and print.\n\n\n\nWhy attend?\n\n\n\n\nNew to the industry? Feeling daunted by the technical terms and product options? The First Drill is here to empower you with the knowledge and hands – on experience you need to take your first steps to confidently navigate signs and print. \n\n\n\n\nSignage for beginners workshop training benefits\n\n\n\n\n\nAccelerate learning\nOvercome the steep learning curve of the signs and print industry\nGain product awareness\nFamiliarise key materials\, brands and products\nIndustry terminology\nBecome comfortable with the vocabulary you will encounter daily\nBring VALUE back to the business\nLeave equipped with the knowledge and confidence to contribute effectively in your new role
URL:https://uksigns.org/event/the-first-drill-signage-for-beginners-7/
LOCATION:Signfab (UK)\, Byford Road\, Leicester\, LE4 0DG\, United Kingdom
CATEGORIES:Training
ORGANIZER;CN="Make It Happen":MAILTO:team@makeih.co.uk
END:VEVENT
BEGIN:VEVENT
DTSTART;TZID=Europe/London:20270222T180000
DTEND;TZID=Europe/London:20270222T230000
DTSTAMP:20260422T145304
CREATED:20260422T095207Z
LAST-MODIFIED:20260422T095207Z
UID:54372-1803319200-1803337200@uksigns.org
SUMMARY:The Sign Industry Awards
DESCRIPTION:The Sign Industry Awards\, presented by Sign Update and Sign & Digital UK\, celebrate excellence in the visual communications sector by honouring past achievements\, present innovations\, and future advancements. These awards recognise outstanding suppliers\, sign makers\, and individual traders in sign making\, digital printing\, and visual communications. With over 35 years of industry service\, SDUK and Sign Update ensure that everyone in the industry has a voice\, highlighting and rewarding the best in the field.
URL:https://uksigns.org/event/the-sign-industry-awards/
LOCATION:NEC Birmingham\, Birmingham\, B40 1NT\, United Kingdom
CATEGORIES:Awards
END:VEVENT
END:VCALENDAR